BEGIN:VCALENDAR
VERSION:2.0
PRODID:-//AlpinClub Hannover - ECPv6.15.20//NONSGML v1.0//EN
CALSCALE:GREGORIAN
METHOD:PUBLISH
X-WR-CALNAME:AlpinClub Hannover
X-ORIGINAL-URL:https://alpinclub-hannover.de
X-WR-CALDESC:Veranstaltungen für AlpinClub Hannover
REFRESH-INTERVAL;VALUE=DURATION:PT1H
X-Robots-Tag:noindex
X-PUBLISHED-TTL:PT1H
BEGIN:VTIMEZONE
TZID:Europe/Berlin
BEGIN:DAYLIGHT
TZOFFSETFROM:+0100
TZOFFSETTO:+0200
TZNAME:CEST
DTSTART:20180325T010000
END:DAYLIGHT
BEGIN:STANDARD
TZOFFSETFROM:+0200
TZOFFSETTO:+0100
TZNAME:CET
DTSTART:20181028T010000
END:STANDARD
BEGIN:DAYLIGHT
TZOFFSETFROM:+0100
TZOFFSETTO:+0200
TZNAME:CEST
DTSTART:20190331T010000
END:DAYLIGHT
BEGIN:STANDARD
TZOFFSETFROM:+0200
TZOFFSETTO:+0100
TZNAME:CET
DTSTART:20191027T010000
END:STANDARD
BEGIN:DAYLIGHT
TZOFFSETFROM:+0100
TZOFFSETTO:+0200
TZNAME:CEST
DTSTART:20200329T010000
END:DAYLIGHT
BEGIN:STANDARD
TZOFFSETFROM:+0200
TZOFFSETTO:+0100
TZNAME:CET
DTSTART:20201025T010000
END:STANDARD
END:VTIMEZONE
BEGIN:VEVENT
DTSTART;TZID=Europe/Berlin:20190807T190000
DTEND;TZID=Europe/Berlin:20190807T190000
DTSTAMP:20260421T173149
CREATED:20190604T214323Z
LAST-MODIFIED:20190604T214323Z
UID:2259-1565204400-1565204400@alpinclub-hannover.de
SUMMARY:AlpinClub-Stammtisch
DESCRIPTION:
URL:https://alpinclub-hannover.de/veranstaltung/stammtisch-158/
LOCATION:Lindener Turm Biergarten\, Lindener Berg\, Hannover
CATEGORIES:AlpinClub alle Gruppen,Stammtisch
ORGANIZER;CN="Kathrin":MAILTO:kathrin.wehmeyer@alpinclub-hannover.de
END:VEVENT
BEGIN:VEVENT
DTSTART;TZID=Europe/Berlin:20190814T190000
DTEND;TZID=Europe/Berlin:20190814T190000
DTSTAMP:20260421T173149
CREATED:20190604T214600Z
LAST-MODIFIED:20190604T214600Z
UID:2261-1565809200-1565809200@alpinclub-hannover.de
SUMMARY:AlpinClub-Stammtisch
DESCRIPTION:
URL:https://alpinclub-hannover.de/veranstaltung/stammtisch-159/
LOCATION:Waterloo Biergarten\, Waterlooplatz\, Hannover\, 30169
CATEGORIES:AlpinClub alle Gruppen,Stammtisch
ORGANIZER;CN="Kathrin":MAILTO:kathrin.wehmeyer@alpinclub-hannover.de
END:VEVENT
BEGIN:VEVENT
DTSTART;VALUE=DATE:20190816
DTEND;VALUE=DATE:20190820
DTSTAMP:20260421T173149
CREATED:20190123T194311Z
LAST-MODIFIED:20190123T194311Z
UID:2141-1565931600-1566190799@alpinclub-hannover.de
SUMMARY:Sektions-Wochenende 2019 – Paddeln auf der Werra
DESCRIPTION:Hallo zusammen\, \ndieses Jahr wollen wir nochmal einen Versuch unternehmen\, auf der Werra zu paddeln\, nachdem es letztes Jahr wegen Niedrigwassers ausfallen musste. Deshalb nicht wundern\, das Programm ist genau wie damals vorgesehen\, lediglich die Kosten für das Frühstücksbuffet haben sich etwas erhöht. \nAllerdings haben sich das dieses Jahr wohl noch mehr überlegt\, der Platz ist schon an 90% der Wochenenden ausgebucht. Mit diesem Wochenendtermin haben wir Glück\, sollen jedoch so schnell wie möglich buchen. Deshalb benötige ich eure Zusage möglichst schnell\, schön wäre bis zum Wochenende. \nLiebe Grüße\nMichaela \nAnmeldung:\nMöglichst sofort bzw. möglichst bis zum 27.01.2019 wegen Reservierung!\nBitte mit Angabe Bootstyp und mit Anschrift\, Telefon (Handy!) und E-Mail für Rückfragen und Infos. \nAnmeldeanschrift siehe unten! \nTeilnehmer:\nAlle\, die gerne mit netten Menschen gemeinsam ein Wochenende auf dem Wasser verbringen wollen. Wir werden am Samstag und Sonntag je eine Tagestour mit Kajaks und Canadiern unternehmen und kehren am Abend auf den Zeltplatz zurück. Für Freitagabend reservieren wir in einem Restaurant in Berka Plätze für ca. 19 Uhr. Am Samstag besteht unterwegs Einkehrmöglichkeit und die Möglichkeit zum Picknick aus der Tonne (Selbstverpflegung). Am Samstagsbend Grillen wir auf dem Gelände\, das Grillgut kann ein ortsansässiger Metzger frisch liefern. \nDie Tour ist ausdrücklich auch für Paddelanfänger geeignet also traut euch!!!\nEs macht wirklich Spaß!!! \nOrt: \nBerka (Werra) \nZeit:\nAnreise Freitagabend 16.08.2019\nRückreise Sonntag 18.08.2019 \nBootsverleih: \nfreizeitcamp-werra.de \nUnterkunft:\nGelände des Freizeitcamp Werra\nZelte (Zeltwiese ist reserviert)\nggf. Hütten oder Ferienwohnung im Ort bei Nachfrage und Verfügbarkeit \nAnreise:\nauf eigene Kosten in Fahrgemeinschaften \nKosten: \n\nBoot für 2 Tage vorauss. 24\,-€/Person\nZeltplatz 8\,50€ /Tag und Person\nFrühstücksbuffet 6\,80€/Person und Tag\nFür die Reservierung eines überdachten Sitzplatzes werden 25\,-€ auf die Teilnehmer umgelegt.\n\nAnmeldung:\nan Jürgen und Michaela Jungermann\,\nAlte Schützenwiese 12 A\, 30880 Laatzen\njungermann-family@t-online.de\nTel. 0511 / 8236859\, Mobil 01718251878 \nAnmerkung: Es handelt sich um eine Gemeinschaftstour für DAV-Mitglieder\, die Teilnahme erfolgt auf eigene Gefahr.
URL:https://alpinclub-hannover.de/veranstaltung/sektions-wochenende-2019/
LOCATION:Freizeitcamp Werra\, Hinter der Stadt 2\, Berka/Werra\, 99837
CATEGORIES:AlpinClub alle Gruppen,Wochenenden und Unternehmungen
ORGANIZER;CN="Michaela Jungermann":MAILTO:jungermann-family@t-online.de
END:VEVENT
BEGIN:VEVENT
DTSTART;VALUE=DATE:20190817
DTEND;VALUE=DATE:20190820
DTSTAMP:20260421T173149
CREATED:20190501T154442Z
LAST-MODIFIED:20190608T135835Z
UID:2229-1566018000-1566190799@alpinclub-hannover.de
SUMMARY:Kletterkurs im Ith für Einsteiger (Kurs 02/2019)
DESCRIPTION:Kursinhalte\nSicherungs- und Klettertechniken\, Einrichtung und Abbau von Toprope-Routen\, Knoten- und Ausrüstungskunde\, Verhalten in der Natur und am Fels \nKlettergebiet\nDer Ith liegt im Weser–Leine-Bergland\, ca. 50 km südwestlich von Hannover\, und bietet mit seiner großen Zahl an Felsen eine sehr gute Möglichkeit\, um die Grundlagen des Kletterns zu erlernen. Besonders die Lüerdisser Klippen (wo sich auch der JDAV-Zeltplatz als Kursstützpunkt befindet) sind dafür sehr gut geeignet. \nInfos zum Kurs\nKurs-Nr.: 02/2019 \nTermin: 17. – 18.08.2019 \nOrt: Ith / Weserbergland \nKursleiter: Johannes Ehrhart\, Trainer C Sportklettern \nTeilnehmerzahl: 2 bis 4 \nZielgruppe: Anfänger \nVoraussetzung: Alpinclub- bzw. DAV-Mitgliedschaft \nInhalt: Grundlagen des Felskletterns (Sicherungs- und Klettertechniken\, Materialkunde\, Klettern und Naturschutz) \nKosten: Kursgebühr 50 €\nSonstige Kosten: Übernachtung Campingplatz\, Verpflegung\, Fahrtkosten (Fahrgemeinschaften) \nAusrüstung: Klettergurt\, Schuhe\, Helm\, Sicherungsgeräte (können auch ausgeliehen werden). Rucksack\, wetterfeste Kleidung\, Zelt\, Schlafsack usw. \nKontakt: joehrhart@web.de
URL:https://alpinclub-hannover.de/veranstaltung/kletterkurs-im-ith-fuer-einsteiger-kurs-02-2019/
LOCATION:Ith (Lüerdisser Klippen)\, Ith-Zeltplatz
CATEGORIES:Ausbildung
ORGANIZER;CN="Johannes Ehrhart":MAILTO:joehrhart@web.de
END:VEVENT
BEGIN:VEVENT
DTSTART;TZID=Europe/Berlin:20190821T190000
DTEND;TZID=Europe/Berlin:20190821T190000
DTSTAMP:20260421T173149
CREATED:20190604T220716Z
LAST-MODIFIED:20190604T220837Z
UID:2263-1566414000-1566414000@alpinclub-hannover.de
SUMMARY:Radtour gen Kronsberg zum Pizza Pazza
DESCRIPTION:Es geht mit dem Rad vom Treffpunkt zum &#8222;Pizza Pazza&#8220; in Hannover-Kirchrode-Bemerode-Wülferode. \nAdresse:\nPizza Pazza da Leo\nWülfeler Str. 10 – 11\n30539 Hannover\npizzapazza.de
URL:https://alpinclub-hannover.de/veranstaltung/radtour-2019-pizzapazza/
LOCATION:Haus der Jugend\, Maschstraße 22–24\, Hannover\, 30169
CATEGORIES:AlpinClub alle Gruppen,Stammtisch
ORGANIZER;CN="Joachim Behlau":MAILTO:vereinsvorsitz2@alpinclub-hannover.de
END:VEVENT
BEGIN:VEVENT
DTSTART;TZID=Europe/Berlin:20190828T190000
DTEND;TZID=Europe/Berlin:20190828T190000
DTSTAMP:20260421T173149
CREATED:20190604T221724Z
LAST-MODIFIED:20190604T221724Z
UID:2265-1567018800-1567018800@alpinclub-hannover.de
SUMMARY:AlpinClub-Stammtisch
DESCRIPTION:
URL:https://alpinclub-hannover.de/veranstaltung/stammtisch-160/
LOCATION:Insel-Biergarten\, Rudolf-von-Bennigsen-Ufer 81\, Hannover\, 30519
CATEGORIES:AlpinClub alle Gruppen,Stammtisch
ORGANIZER;CN="Kathrin":MAILTO:kathrin.wehmeyer@alpinclub-hannover.de
END:VEVENT
END:VCALENDAR