BEGIN:VCALENDAR
VERSION:2.0
PRODID:-//AlpinClub Hannover - ECPv6.15.20//NONSGML v1.0//EN
CALSCALE:GREGORIAN
METHOD:PUBLISH
X-ORIGINAL-URL:https://alpinclub-hannover.de
X-WR-CALDESC:Veranstaltungen für AlpinClub Hannover
REFRESH-INTERVAL;VALUE=DURATION:PT1H
X-Robots-Tag:noindex
X-PUBLISHED-TTL:PT1H
BEGIN:VTIMEZONE
TZID:Europe/Berlin
BEGIN:DAYLIGHT
TZOFFSETFROM:+0100
TZOFFSETTO:+0200
TZNAME:CEST
DTSTART:20180325T010000
END:DAYLIGHT
BEGIN:STANDARD
TZOFFSETFROM:+0200
TZOFFSETTO:+0100
TZNAME:CET
DTSTART:20181028T010000
END:STANDARD
BEGIN:DAYLIGHT
TZOFFSETFROM:+0100
TZOFFSETTO:+0200
TZNAME:CEST
DTSTART:20190331T010000
END:DAYLIGHT
BEGIN:STANDARD
TZOFFSETFROM:+0200
TZOFFSETTO:+0100
TZNAME:CET
DTSTART:20191027T010000
END:STANDARD
BEGIN:DAYLIGHT
TZOFFSETFROM:+0100
TZOFFSETTO:+0200
TZNAME:CEST
DTSTART:20200329T010000
END:DAYLIGHT
BEGIN:STANDARD
TZOFFSETFROM:+0200
TZOFFSETTO:+0100
TZNAME:CET
DTSTART:20201025T010000
END:STANDARD
END:VTIMEZONE
BEGIN:VEVENT
DTSTART;TZID=Europe/Berlin:20190703T190000
DTEND;TZID=Europe/Berlin:20190703T190000
DTSTAMP:20260421T192318
CREATED:20190603T202510Z
LAST-MODIFIED:20190603T202510Z
UID:2249-1562180400-1562180400@alpinclub-hannover.de
SUMMARY:Wir spielen Minigolf
DESCRIPTION:
URL:https://alpinclub-hannover.de/veranstaltung/minigolf-2019-1/
LOCATION:Minigolfplatz im/am Georgengarten (in der Nähe des W.-Busch-Museums)\, Georgengarten\, Hannover
CATEGORIES:AlpinClub alle Gruppen,Stammtisch
ORGANIZER;CN="Kathrin":MAILTO:kathrin.wehmeyer@alpinclub-hannover.de
END:VEVENT
BEGIN:VEVENT
DTSTART;TZID=Europe/Berlin:20190710T190000
DTEND;TZID=Europe/Berlin:20190710T190000
DTSTAMP:20260421T192318
CREATED:20190604T210618Z
LAST-MODIFIED:20190604T210618Z
UID:2251-1562785200-1562785200@alpinclub-hannover.de
SUMMARY:Radtour nach Wülfel zum Teichhus
DESCRIPTION:Es geht mit dem Rad vom Treffpunkt zum &#8222;Teichhûs&#8220; in Hannover-Wülfel. \nAdresse:\nTeichhûs\nWilkenburger Str. 32\n30519 Hannover\nwww.teichhues.de
URL:https://alpinclub-hannover.de/veranstaltung/radtour-2019-teichhues/
LOCATION:Haus der Jugend\, Maschstraße 22–24\, Hannover\, 30169
CATEGORIES:AlpinClub alle Gruppen,Stammtisch
ORGANIZER;CN="Beate":MAILTO:beate.f@alpinclub-hannover.de
END:VEVENT
BEGIN:VEVENT
DTSTART;TZID=Europe/Berlin:20190717T190000
DTEND;TZID=Europe/Berlin:20190717T190000
DTSTAMP:20260421T192318
CREATED:20190604T211739Z
LAST-MODIFIED:20190604T211739Z
UID:2253-1563390000-1563390000@alpinclub-hannover.de
SUMMARY:Wir spielen Wikinger
DESCRIPTION:auf der Georgengartenwiese in Höhe der Stadtbahnhaltestelle Universität &#8230;
URL:https://alpinclub-hannover.de/veranstaltung/wikinger-2019-1/
LOCATION:Georgengarten\, Georgengarten\, Hannover
CATEGORIES:AlpinClub alle Gruppen,Stammtisch
ORGANIZER;CN="Tine":MAILTO:tine.ziez@alpinclub-hannover.de
END:VEVENT
BEGIN:VEVENT
DTSTART;TZID=Europe/Berlin:20190724T190000
DTEND;TZID=Europe/Berlin:20190724T190000
DTSTAMP:20260421T192318
CREATED:20190604T213006Z
LAST-MODIFIED:20190718T212321Z
UID:2255-1563994800-1563994800@alpinclub-hannover.de
SUMMARY:AlpinClub-Stammtisch
DESCRIPTION:Die ursprünglich hier geplante Radtour zum &#8222;Lukullus&#8220; in Hannover-Ahlem wird vielleicht später nachgeholt &#8230;
URL:https://alpinclub-hannover.de/veranstaltung/stammtisch-156-b/
LOCATION:Loretta`s\, Culemannstr. 14\, Hannover\, 30169
CATEGORIES:AlpinClub alle Gruppen,Stammtisch
ORGANIZER;CN="Joachim Behlau":MAILTO:vereinsvorsitz2@alpinclub-hannover.de
END:VEVENT
BEGIN:VEVENT
DTSTART;TZID=Europe/Berlin:20190731T190000
DTEND;TZID=Europe/Berlin:20190731T190000
DTSTAMP:20260421T192318
CREATED:20190604T214027Z
LAST-MODIFIED:20190604T214027Z
UID:2257-1564599600-1564599600@alpinclub-hannover.de
SUMMARY:AlpinClub-Stammtisch
DESCRIPTION:
URL:https://alpinclub-hannover.de/veranstaltung/stammtisch-157/
LOCATION:Lister Turm-Biergarten\, Walderseestr. 100\, Hannover\, 30177
CATEGORIES:AlpinClub alle Gruppen,Stammtisch
ORGANIZER;CN="Kathrin":MAILTO:kathrin.wehmeyer@alpinclub-hannover.de
END:VEVENT
END:VCALENDAR