BEGIN:VCALENDAR
VERSION:2.0
PRODID:-//AlpinClub Hannover - ECPv6.15.20//NONSGML v1.0//EN
CALSCALE:GREGORIAN
METHOD:PUBLISH
X-ORIGINAL-URL:https://alpinclub-hannover.de
X-WR-CALDESC:Veranstaltungen für AlpinClub Hannover
REFRESH-INTERVAL;VALUE=DURATION:PT1H
X-Robots-Tag:noindex
X-PUBLISHED-TTL:PT1H
BEGIN:VTIMEZONE
TZID:Europe/Berlin
BEGIN:DAYLIGHT
TZOFFSETFROM:+0100
TZOFFSETTO:+0200
TZNAME:CEST
DTSTART:20180325T010000
END:DAYLIGHT
BEGIN:STANDARD
TZOFFSETFROM:+0200
TZOFFSETTO:+0100
TZNAME:CET
DTSTART:20181028T010000
END:STANDARD
BEGIN:DAYLIGHT
TZOFFSETFROM:+0100
TZOFFSETTO:+0200
TZNAME:CEST
DTSTART:20190331T010000
END:DAYLIGHT
BEGIN:STANDARD
TZOFFSETFROM:+0200
TZOFFSETTO:+0100
TZNAME:CET
DTSTART:20191027T010000
END:STANDARD
BEGIN:DAYLIGHT
TZOFFSETFROM:+0100
TZOFFSETTO:+0200
TZNAME:CEST
DTSTART:20200329T010000
END:DAYLIGHT
BEGIN:STANDARD
TZOFFSETFROM:+0200
TZOFFSETTO:+0100
TZNAME:CET
DTSTART:20201025T010000
END:STANDARD
END:VTIMEZONE
BEGIN:VEVENT
DTSTART;TZID=Europe/Berlin:20190306T190000
DTEND;TZID=Europe/Berlin:20190306T190000
DTSTAMP:20260422T023953
CREATED:20181202T162557Z
LAST-MODIFIED:20181202T162557Z
UID:2112-1551898800-1551898800@alpinclub-hannover.de
SUMMARY:AlpinClub-Stammtisch
DESCRIPTION:
URL:https://alpinclub-hannover.de/veranstaltung/stammtisch-150/
LOCATION:BocaChica II\, Bischofsholer Damm 20\, Hannover\, 30173
CATEGORIES:AlpinClub alle Gruppen,Stammtisch
ORGANIZER;CN="Kathrin":MAILTO:kathrin.wehmeyer@alpinclub-hannover.de
END:VEVENT
BEGIN:VEVENT
DTSTART;TZID=Europe/Berlin:20190313T190000
DTEND;TZID=Europe/Berlin:20190313T190000
DTSTAMP:20260422T023953
CREATED:20181202T162928Z
LAST-MODIFIED:20181202T162928Z
UID:2115-1552503600-1552503600@alpinclub-hannover.de
SUMMARY:AlpinClub-Stammtisch
DESCRIPTION:
URL:https://alpinclub-hannover.de/veranstaltung/stammtisch-151/
LOCATION:Raj\, Helenenstr. 37\, Hannover\, 30519
CATEGORIES:AlpinClub alle Gruppen,Stammtisch
ORGANIZER;CN="Kathrin":MAILTO:kathrin.wehmeyer@alpinclub-hannover.de
END:VEVENT
BEGIN:VEVENT
DTSTART;TZID=Europe/Berlin:20190320T190000
DTEND;TZID=Europe/Berlin:20190320T190000
DTSTAMP:20260422T023953
CREATED:20181202T163718Z
LAST-MODIFIED:20190313T222714Z
UID:2118-1553108400-1553108400@alpinclub-hannover.de
SUMMARY:AlpinClub-Stammtisch
DESCRIPTION:Der ursprünglich für diesen Termin geplante Bildervortrag &#8222;Around the World – Teil 1&#8220; von Bernadett & Joachim wird verschoben\, neuer Termin wird noch bekannt gegeben &#8230;
URL:https://alpinclub-hannover.de/veranstaltung/stammtisch-152/
LOCATION:Tanara\, Scheidestr. 20\, Hannover\, 30625
CATEGORIES:AlpinClub alle Gruppen,Stammtisch
ORGANIZER;CN="Beate":MAILTO:beate.f@alpinclub-hannover.de
END:VEVENT
BEGIN:VEVENT
DTSTART;TZID=Europe/Berlin:20190327T193000
DTEND;TZID=Europe/Berlin:20190327T193000
DTSTAMP:20260422T023953
CREATED:20181202T164334Z
LAST-MODIFIED:20190209T120840Z
UID:2120-1553715000-1553715000@alpinclub-hannover.de
SUMMARY:Mitgliederversammlung 2019 des AlpinClub Hannover e.V.
DESCRIPTION:Achtung: Beginn um 19:30 Uhr! \nEinladung zur Mitgliederversammlung 2019 des AlpinClub Hannover\,\nSektion des Deutschen Alpenverein &#8211; Tagesordnung: \n1. Begrüßung und Feststellung der Beschlussfähigkeit und der Tagesordnung\n1.1 Verlesung und Genehmigung der Niederschrift der JHV 2018\n2. Geschäftsberichte aus den Referaten\n2.1 Vereinsvorsitzender\n2.2 Mitgliederverwaltung\n2.3 Schatzmeisterin\n2.4 Rechnungsprüfer\n2.5 Ausbildungsreferent\n2.6 Jugendleitung\n3. Entlastung des Vorstandes\n4. Wahlen\n4.1 Schatzmeister*in\n4.2 Schriftführer*in\n4.3 Rechnungsprüfer*in\n5. Haushalt 2019\n6. Diskussion und Abstimmung über eingereichte Anträge\n7. Verschiedenes \nAnträge an die Mitgliederversammlung sind schriftlich bis zum 01.03.2019 einzureichen. \nMit freundlichem Gruß\,\ngez. Thomas Wehmeyer\n(1. Vorsitzender)
URL:https://alpinclub-hannover.de/veranstaltung/mitgliederversammlung-2019/
LOCATION:Freizeitheim Lister Turm\, Walderseestr. 100\, Hannover\, 30177
CATEGORIES:AlpinClub alle Gruppen
ORGANIZER;CN="Thomas Wehmeyer":MAILTO:thomas.wehmeyer@alpinclub-hannover.de
END:VEVENT
END:VCALENDAR