BEGIN:VCALENDAR
VERSION:2.0
PRODID:-//AlpinClub Hannover - ECPv6.15.20//NONSGML v1.0//EN
CALSCALE:GREGORIAN
METHOD:PUBLISH
X-ORIGINAL-URL:https://alpinclub-hannover.de
X-WR-CALDESC:Veranstaltungen für AlpinClub Hannover
REFRESH-INTERVAL;VALUE=DURATION:PT1H
X-Robots-Tag:noindex
X-PUBLISHED-TTL:PT1H
BEGIN:VTIMEZONE
TZID:Europe/Berlin
BEGIN:DAYLIGHT
TZOFFSETFROM:+0100
TZOFFSETTO:+0200
TZNAME:CEST
DTSTART:20180325T010000
END:DAYLIGHT
BEGIN:STANDARD
TZOFFSETFROM:+0200
TZOFFSETTO:+0100
TZNAME:CET
DTSTART:20181028T010000
END:STANDARD
BEGIN:DAYLIGHT
TZOFFSETFROM:+0100
TZOFFSETTO:+0200
TZNAME:CEST
DTSTART:20190331T010000
END:DAYLIGHT
BEGIN:STANDARD
TZOFFSETFROM:+0200
TZOFFSETTO:+0100
TZNAME:CET
DTSTART:20191027T010000
END:STANDARD
BEGIN:DAYLIGHT
TZOFFSETFROM:+0100
TZOFFSETTO:+0200
TZNAME:CEST
DTSTART:20200329T010000
END:DAYLIGHT
BEGIN:STANDARD
TZOFFSETFROM:+0200
TZOFFSETTO:+0100
TZNAME:CET
DTSTART:20201025T010000
END:STANDARD
END:VTIMEZONE
BEGIN:VEVENT
DTSTART;TZID=Europe/Berlin:20190206T190000
DTEND;TZID=Europe/Berlin:20190206T190000
DTSTAMP:20260422T044245
CREATED:20181202T160658Z
LAST-MODIFIED:20181202T160658Z
UID:2103-1549479600-1549479600@alpinclub-hannover.de
SUMMARY:AlpinClub-Stammtisch
DESCRIPTION:
URL:https://alpinclub-hannover.de/veranstaltung/stammtisch-146/
LOCATION:Taj Mahal\, Hinüberstr. 21\, Hannover\, 30175
CATEGORIES:AlpinClub alle Gruppen,Stammtisch
ORGANIZER;CN="Georg":MAILTO:georg.klein-horrix@alpinclub-hannover.de
END:VEVENT
BEGIN:VEVENT
DTSTART;TZID=Europe/Berlin:20190209T110400
DTEND;TZID=Europe/Berlin:20190209T110400
DTSTAMP:20260422T044245
CREATED:20190123T204910Z
LAST-MODIFIED:20190123T204910Z
UID:2150-1549710240-1549710240@alpinclub-hannover.de
SUMMARY:Grünkohlwanderung
DESCRIPTION:&#8211; Die diesjährige traditionelle Grünkohlwanderung ! &#8211;\nStart mit der S-Bahn vom Hbf Hannover um 10:33 Uhr;\noder von H-Bismarck-Bhf um 10:36 Uhr. \nStart um 11:04 Uhr am Bahnhof Kirchdorf !!!\nWir wandern von dort durch den Deister zur &#8222;Deisteralm&#8220;\, wo wir zum Essen einkehren; danach zu Fuß zum Bhf Bantorf\, und mit der S-Bahn zurück nach Hannover. \nWas die Zugfahrt\, den Wanderweg und das Grünkohlessen anbelangt\, dazu schreibt Hedda\, die die Veranstaltung organisiert:\n&#8222;&#8230; Wir werden um 10:33 mit dem Zug vom Hauptbahnhof nach Kirchdorf am Deister fahren und sind um 11:04 in Kirchdorf.\nTreffpunkt um 10:15 unterm Schwanz\, um dort die entsprechenden Sammellfahrkarten abzustimmen und zu kaufen. Wer am Bismarkbhf (10:36) zusteigt spricht das individuell mit mitfahrenden vom Hbf. ab (wg. der Fahrkarte)\nVon dort geht es im /über und um den Deister zur Deisteralm ( ca.15:00) zum Essen. Es wird Grünkohl mit Kassler und Bregenwurst geben oder ala Card.\nNachdem wir uns reichhaltig gestärkt haben\, geht es von dort zum Bhf Bantorf und zurück nach Hannover.\nMitzubringen: gute Laune\, einen Becher\, ein Schnappsglas &#8211; für die \, dies nicht lassen können- Sitzkissen???&#8230;.\nBitte die Zusagen bis zum 06.02.2019 per mail zu mir mit der Angabe von Grünkohl ja oder ala Card.\nIch freu mich auf euch\nHedda\n&#8220; \nAnmeldung bis 06.02.2019 per Mail an Hedda: heddaborgaes@arcor.de\nBitte dabei die Anzahl der Personen (Erw./Kinder)\, die Anzahl und Art der Essen (Grünkohl mit Bregenwurst\, oder á la carte) übermitteln!
URL:https://alpinclub-hannover.de/veranstaltung/gruenkohlwanderung/
LOCATION:Kirchdorf am Deister\, Bhf\, Kirchdorf\, 30890
CATEGORIES:AlpinClub alle Gruppen,Wochenenden und Unternehmungen
ORGANIZER;CN="Hedda":MAILTO:hedda@arcormail.de
END:VEVENT
BEGIN:VEVENT
DTSTART;TZID=Europe/Berlin:20190213T190000
DTEND;TZID=Europe/Berlin:20190213T190000
DTSTAMP:20260422T044245
CREATED:20181202T161203Z
LAST-MODIFIED:20181202T161203Z
UID:2105-1550084400-1550084400@alpinclub-hannover.de
SUMMARY:Schlittschuhlaufen auf dem Maschsee
DESCRIPTION:mit Christine &#8211; wenn zugefroren! (sonst Kletterstammtisch im &#8222;Tanara&#8220;)
URL:https://alpinclub-hannover.de/veranstaltung/schlittschuh2019-oder-stammtisch/
LOCATION:Maschsee-Nordufer\, am &#8222;Fackelträger&#8220;\, Rudolf-von-Bennigsen-Ufer 2\, Hannover\, 30169
CATEGORIES:AlpinClub alle Gruppen,Stammtisch
ORGANIZER;CN="Tine":MAILTO:tine.ziez@alpinclub-hannover.de
END:VEVENT
BEGIN:VEVENT
DTSTART;TZID=Europe/Berlin:20190220T190000
DTEND;TZID=Europe/Berlin:20190220T190000
DTSTAMP:20260422T044245
CREATED:20181202T161711Z
LAST-MODIFIED:20181202T161711Z
UID:2108-1550689200-1550689200@alpinclub-hannover.de
SUMMARY:AlpinClub-Stammtisch
DESCRIPTION:voraussichtlich auch mit Christine – wenn wieder aufgetaut! ;-)
URL:https://alpinclub-hannover.de/veranstaltung/stammtisch-148/
LOCATION:Prager Hof\, Gellertstr. 24\, Hannover\, 30175
CATEGORIES:AlpinClub alle Gruppen,Stammtisch
ORGANIZER;CN="Kathrin":MAILTO:kathrin.wehmeyer@alpinclub-hannover.de
END:VEVENT
BEGIN:VEVENT
DTSTART;TZID=Europe/Berlin:20190227T190000
DTEND;TZID=Europe/Berlin:20190227T190000
DTSTAMP:20260422T044245
CREATED:20181202T162123Z
LAST-MODIFIED:20181202T162123Z
UID:2110-1551294000-1551294000@alpinclub-hannover.de
SUMMARY:AlpinClub-Stammtisch
DESCRIPTION:Achtung: Gänse-Essen !!!
URL:https://alpinclub-hannover.de/veranstaltung/stammtisch-149/
LOCATION:Restaurant Otts\, Köbelingerstr. 1\, Hannover\, 30159
CATEGORIES:AlpinClub alle Gruppen,Stammtisch
ORGANIZER;CN="Kathrin":MAILTO:kathrin.wehmeyer@alpinclub-hannover.de
END:VEVENT
END:VCALENDAR