BEGIN:VCALENDAR
VERSION:2.0
PRODID:-//AlpinClub Hannover - ECPv6.15.20//NONSGML v1.0//EN
CALSCALE:GREGORIAN
METHOD:PUBLISH
X-ORIGINAL-URL:https://alpinclub-hannover.de
X-WR-CALDESC:Veranstaltungen für AlpinClub Hannover
REFRESH-INTERVAL;VALUE=DURATION:PT1H
X-Robots-Tag:noindex
X-PUBLISHED-TTL:PT1H
BEGIN:VTIMEZONE
TZID:Europe/Berlin
BEGIN:DAYLIGHT
TZOFFSETFROM:+0100
TZOFFSETTO:+0200
TZNAME:CEST
DTSTART:20180325T010000
END:DAYLIGHT
BEGIN:STANDARD
TZOFFSETFROM:+0200
TZOFFSETTO:+0100
TZNAME:CET
DTSTART:20181028T010000
END:STANDARD
BEGIN:DAYLIGHT
TZOFFSETFROM:+0100
TZOFFSETTO:+0200
TZNAME:CEST
DTSTART:20190331T010000
END:DAYLIGHT
BEGIN:STANDARD
TZOFFSETFROM:+0200
TZOFFSETTO:+0100
TZNAME:CET
DTSTART:20191027T010000
END:STANDARD
BEGIN:DAYLIGHT
TZOFFSETFROM:+0100
TZOFFSETTO:+0200
TZNAME:CEST
DTSTART:20200329T010000
END:DAYLIGHT
BEGIN:STANDARD
TZOFFSETFROM:+0200
TZOFFSETTO:+0100
TZNAME:CET
DTSTART:20201025T010000
END:STANDARD
END:VTIMEZONE
BEGIN:VEVENT
DTSTART;TZID=Europe/Berlin:20190102T190000
DTEND;TZID=Europe/Berlin:20190102T190000
DTSTAMP:20260422T063003
CREATED:20181202T152802Z
LAST-MODIFIED:20181202T154402Z
UID:2089-1546455600-1546455600@alpinclub-hannover.de
SUMMARY:AlpinClub-Stammtisch
DESCRIPTION:
URL:https://alpinclub-hannover.de/veranstaltung/stammtisch-141/
LOCATION:Tesoro\, Marienstraße 113\, Hannover\, 30171 
CATEGORIES:AlpinClub alle Gruppen,Stammtisch
ORGANIZER;CN="Bernadett":MAILTO:bernadett.m@alpinclub-hannover.de
END:VEVENT
BEGIN:VEVENT
DTSTART;TZID=Europe/Berlin:20190109T190000
DTEND;TZID=Europe/Berlin:20190109T190000
DTSTAMP:20260422T063003
CREATED:20181202T155631Z
LAST-MODIFIED:20181202T155631Z
UID:2094-1547060400-1547060400@alpinclub-hannover.de
SUMMARY:AlpinClub-Stammtisch
DESCRIPTION:
URL:https://alpinclub-hannover.de/veranstaltung/stammtisch-142/
LOCATION:Eliniko\, Marienstraße 104\, Hannover\, 30171
CATEGORIES:AlpinClub alle Gruppen,Stammtisch
ORGANIZER;CN="Bernadett":MAILTO:bernadett.m@alpinclub-hannover.de
END:VEVENT
BEGIN:VEVENT
DTSTART;TZID=Europe/Berlin:20190116T193000
DTEND;TZID=Europe/Berlin:20190116T193000
DTSTAMP:20260422T063003
CREATED:20181202T155857Z
LAST-MODIFIED:20190112T231309Z
UID:2096-1547667000-1547667000@alpinclub-hannover.de
SUMMARY:AlpinClub-Stammtisch
DESCRIPTION:Achtung: Beginn erst ca. 19:30 Uhr (&#8230; oder etwas danach)!
URL:https://alpinclub-hannover.de/veranstaltung/stammtisch-143/
LOCATION:Ilion\, Wredestr. 1\, Hannover\, 30173
CATEGORIES:AlpinClub alle Gruppen,Stammtisch
ORGANIZER;CN="Beate":MAILTO:beate.f@alpinclub-hannover.de
END:VEVENT
BEGIN:VEVENT
DTSTART;TZID=Europe/Berlin:20190123T190000
DTEND;TZID=Europe/Berlin:20190123T190000
DTSTAMP:20260422T063003
CREATED:20181202T160115Z
LAST-MODIFIED:20181202T160115Z
UID:2098-1548270000-1548270000@alpinclub-hannover.de
SUMMARY:AlpinClub-Stammtisch
DESCRIPTION:
URL:https://alpinclub-hannover.de/veranstaltung/stammtisch-144/
LOCATION:Coimbra (portugiesisches Restaurant)\, Charlottenstr. 88\, Hannover\, 30449
CATEGORIES:AlpinClub alle Gruppen,Stammtisch
ORGANIZER;CN="Bernadett":MAILTO:bernadett.m@alpinclub-hannover.de
END:VEVENT
BEGIN:VEVENT
DTSTART;TZID=Europe/Berlin:20190130T190000
DTEND;TZID=Europe/Berlin:20190130T190000
DTSTAMP:20260422T063003
CREATED:20181202T160436Z
LAST-MODIFIED:20181202T160436Z
UID:2100-1548874800-1548874800@alpinclub-hannover.de
SUMMARY:AlpinClub-Stammtisch
DESCRIPTION:
URL:https://alpinclub-hannover.de/veranstaltung/stammtisch-145/
LOCATION:Spätzle-Haus\, Hegebläch 33\, Hannover\, 30419
CATEGORIES:AlpinClub alle Gruppen,Stammtisch
ORGANIZER;CN="Bernadett":MAILTO:bernadett.m@alpinclub-hannover.de
END:VEVENT
END:VCALENDAR