BEGIN:VCALENDAR
VERSION:2.0
PRODID:-//AlpinClub Hannover - ECPv6.15.20//NONSGML v1.0//EN
CALSCALE:GREGORIAN
METHOD:PUBLISH
X-WR-CALNAME:AlpinClub Hannover
X-ORIGINAL-URL:https://alpinclub-hannover.de
X-WR-CALDESC:Veranstaltungen für AlpinClub Hannover
REFRESH-INTERVAL;VALUE=DURATION:PT1H
X-Robots-Tag:noindex
X-PUBLISHED-TTL:PT1H
BEGIN:VTIMEZONE
TZID:Europe/Berlin
BEGIN:DAYLIGHT
TZOFFSETFROM:+0100
TZOFFSETTO:+0200
TZNAME:CEST
DTSTART:20170326T010000
END:DAYLIGHT
BEGIN:STANDARD
TZOFFSETFROM:+0200
TZOFFSETTO:+0100
TZNAME:CET
DTSTART:20171029T010000
END:STANDARD
BEGIN:DAYLIGHT
TZOFFSETFROM:+0100
TZOFFSETTO:+0200
TZNAME:CEST
DTSTART:20180325T010000
END:DAYLIGHT
BEGIN:STANDARD
TZOFFSETFROM:+0200
TZOFFSETTO:+0100
TZNAME:CET
DTSTART:20181028T010000
END:STANDARD
BEGIN:DAYLIGHT
TZOFFSETFROM:+0100
TZOFFSETTO:+0200
TZNAME:CEST
DTSTART:20190331T010000
END:DAYLIGHT
BEGIN:STANDARD
TZOFFSETFROM:+0200
TZOFFSETTO:+0100
TZNAME:CET
DTSTART:20191027T010000
END:STANDARD
END:VTIMEZONE
BEGIN:VEVENT
DTSTART;TZID=Europe/Berlin:20180905T190000
DTEND;TZID=Europe/Berlin:20180905T190000
DTSTAMP:20260422T132343
CREATED:20180630T122927Z
LAST-MODIFIED:20180803T210211Z
UID:1999-1536174000-1536174000@alpinclub-hannover.de
SUMMARY:AlpinClub-Stammtisch
DESCRIPTION:
URL:https://alpinclub-hannover.de/veranstaltung/stammtisch-126/
LOCATION:See-Biergarten am Maschsee-Nordufer\, Arthur-Menge-Ufer\, Hannover\, 30169
CATEGORIES:AlpinClub alle Gruppen,Stammtisch
ORGANIZER;CN="Kathrin":MAILTO:kathrin.wehmeyer@alpinclub-hannover.de
END:VEVENT
BEGIN:VEVENT
DTSTART;TZID=Europe/Berlin:20180912T190000
DTEND;TZID=Europe/Berlin:20180912T190000
DTSTAMP:20260422T132343
CREATED:20180630T123138Z
LAST-MODIFIED:20180803T210315Z
UID:2001-1536778800-1536778800@alpinclub-hannover.de
SUMMARY:AlpinClub-Stammtisch
DESCRIPTION:
URL:https://alpinclub-hannover.de/veranstaltung/stammtisch-127/
LOCATION:Wülfeler Biergarten\, Hildesheimer Str. 380\, Hannover\, 30519
CATEGORIES:AlpinClub alle Gruppen,Stammtisch
ORGANIZER;CN="Kathrin":MAILTO:kathrin.wehmeyer@alpinclub-hannover.de
END:VEVENT
BEGIN:VEVENT
DTSTART;TZID=Europe/Berlin:20180919T190000
DTEND;TZID=Europe/Berlin:20180919T190000
DTSTAMP:20260422T132343
CREATED:20180630T123342Z
LAST-MODIFIED:20180803T210536Z
UID:2003-1537383600-1537383600@alpinclub-hannover.de
SUMMARY:AlpinClub-Stammtisch
DESCRIPTION:
URL:https://alpinclub-hannover.de/veranstaltung/stammtisch-128/
LOCATION:Tiergartenschänke\, Tiergartenstr. 119\, Hannover\, 30559
CATEGORIES:AlpinClub alle Gruppen,Stammtisch
ORGANIZER;CN="Kathrin":MAILTO:kathrin.wehmeyer@alpinclub-hannover.de
END:VEVENT
BEGIN:VEVENT
DTSTART;TZID=Europe/Berlin:20180926T190000
DTEND;TZID=Europe/Berlin:20180926T190000
DTSTAMP:20260422T132343
CREATED:20180630T123627Z
LAST-MODIFIED:20180924T204403Z
UID:2005-1537988400-1537988400@alpinclub-hannover.de
SUMMARY:AlpinClub-Stammtisch
DESCRIPTION:Achtung ! &#8211; geänderter Ort:\nWegen des &#8222;nicht mehr biergartentauglichen Wetters&#8220; statt &#8222;Waterloo Biergarten&#8220; jetzt im hoffentlich geschützteren Bereich &#8230; ;-)
URL:https://alpinclub-hannover.de/veranstaltung/stammtisch-129/
LOCATION:Restaurant Finca\, Inge-Machts Weg 2\, Hannover\, 30169
CATEGORIES:AlpinClub alle Gruppen,Stammtisch
ORGANIZER;CN="Kathrin":MAILTO:kathrin.wehmeyer@alpinclub-hannover.de
END:VEVENT
END:VCALENDAR