BEGIN:VCALENDAR
VERSION:2.0
PRODID:-//AlpinClub Hannover - ECPv6.15.20//NONSGML v1.0//EN
CALSCALE:GREGORIAN
METHOD:PUBLISH
X-ORIGINAL-URL:https://alpinclub-hannover.de
X-WR-CALDESC:Veranstaltungen für AlpinClub Hannover
REFRESH-INTERVAL;VALUE=DURATION:PT1H
X-Robots-Tag:noindex
X-PUBLISHED-TTL:PT1H
BEGIN:VTIMEZONE
TZID:Europe/Berlin
BEGIN:DAYLIGHT
TZOFFSETFROM:+0100
TZOFFSETTO:+0200
TZNAME:CEST
DTSTART:20170326T010000
END:DAYLIGHT
BEGIN:STANDARD
TZOFFSETFROM:+0200
TZOFFSETTO:+0100
TZNAME:CET
DTSTART:20171029T010000
END:STANDARD
BEGIN:DAYLIGHT
TZOFFSETFROM:+0100
TZOFFSETTO:+0200
TZNAME:CEST
DTSTART:20180325T010000
END:DAYLIGHT
BEGIN:STANDARD
TZOFFSETFROM:+0200
TZOFFSETTO:+0100
TZNAME:CET
DTSTART:20181028T010000
END:STANDARD
BEGIN:DAYLIGHT
TZOFFSETFROM:+0100
TZOFFSETTO:+0200
TZNAME:CEST
DTSTART:20190331T010000
END:DAYLIGHT
BEGIN:STANDARD
TZOFFSETFROM:+0200
TZOFFSETTO:+0100
TZNAME:CET
DTSTART:20191027T010000
END:STANDARD
END:VTIMEZONE
BEGIN:VEVENT
DTSTART;VALUE=DATE:20180730
DTEND;VALUE=DATE:20180805
DTSTAMP:20260422T150059
CREATED:20180416T203554Z
LAST-MODIFIED:20180803T205124Z
UID:1838-1532926800-1533358799@alpinclub-hannover.de
SUMMARY:Ötztaler Runde - Teilnehmer für Tour mit Bergführer gesucht!
DESCRIPTION:Seit einigen Jahren schon bin ich mit meinem Bergfreund aus Hannover in den Bergen auf Wanderungen und Klettersteigen unterwegs. So haben wir auf zahlreichen Touren bereits fast alle Dolomitengebiete kennengelernt.\nVorletztes Jahr erstiegen wir die Zugspitze. Das Highlight des letzten Sommers war die Großglocknerbesteigung bei traumhaftem Wetter und Aussicht. \nDieses Jahr zieht es uns auf die &#8222;Venter Runde&#8220; bzw. &#8222;Ötztaler Runde&#8220;\n(5 Tage: Mo 30.7. &#8211; Fr 03.08.2018):\nDurchquerung der Ötztaler Alpen vom Similaun bis zur Wildspitze in fünf Tagen. \nMontag:\nTreffpunkt um 08.00 Uhr bei der Bergführerstelle Vent und Aufstieg zur Martin Busch Hütte (2 ½ Std.)\nund weiter zur Similaunhütte 3.019 m (weitere 2 Std.) – Mittagspause und Gepäckdepot –\nanschließend Aufstieg auf den Similaun 3.606 m (2 ½ Std.)\nund Rückkehr zur Similaunhütte (1 ½ Stunden). \nDienstag:\nBesteigung der Finailspitze 3.516 m (3 St.)\nund Abstieg zur Schönen Aussicht 2.848 m (2 ½ Stunden). \nMittwoch:\nAufstieg auf die Weißkugel 3.739 m (5 St.)\nund Abstieg entweder zum Hochjoch Hospiz 2.414 m (4 Stunden)\noder zum Brandenburger Haus 3.272 m (5 Stunden). \nDonnerstag:\nVom Hochjoch Hospiz über den Delorette Weg in 3 Stunden zum Brandenburger Haus\,\nweiter auf  den Fluchtkogel 3.500 m (1 1/2 St.)\nund Abstieg zur Vernagthütte 2.755 m (2 Stunden). \nFreitag:\nAufstieg auf die Wildspitze 3.774 m (5 St.)\nund Abstieg über das Mitterkarjoch und die Breslauer Hütte direkt nach Vent (4 Stunden). \nDa die Tour vom hohen Gletscheranteil mitbestimmt ist\, wollen wir die Tour mit einem Bergführer gehen.\nUm die Kosten hierfür zu relativieren\, suchen wir beide noch 1 oder 2 Interessierte\, die sich für diese Tour begeistern können.\nIch würde mich sehr freuen\, wenn wir die Tour zu 3 oder viert und nicht nur zu zweit unternehmen könnten. \nBurkhard Koenig\nKontakt für Interessenten: burkhard.koenig@alpinclub-hannover.de \nHinweis der Sektion:\nHierbei handelt es sich nicht um eine geführte Veranstaltung des AlpinClub Hannover oder durch Burkhard Koenig.\nUnten bei &#8222;Details&#8220; wird zwar die Bezeichnung &#8222;Veranstalter&#8220; verwendet\, es wird aber ausdrücklich darauf hingewiesen\, dass dies im Sinne einer Koordinator-/Ansprechpartner-Funktion zu verstehen ist.\nEs handelt sich um eine private Unternehmung\, bei der keine Haftung\, Führung oder Schulung erfolgt\, weder durch den Verein noch durch Burkhard Koenig!
URL:https://alpinclub-hannover.de/veranstaltung/oetztalrunde-2018/
LOCATION:Vent\, Bergführerstelle\, Marzellweg 7\, Vent\, A-6458
CATEGORIES:AlpinClub alle Gruppen,Wochenenden und Unternehmungen
ORGANIZER;CN="Burkhard Koenig":MAILTO:burkhard.koenig@alpinclub-hannover.de
END:VEVENT
BEGIN:VEVENT
DTSTART;TZID=Europe/Berlin:20180801T190000
DTEND;TZID=Europe/Berlin:20180801T190000
DTSTAMP:20260422T150059
CREATED:20180630T113354Z
LAST-MODIFIED:20180730T210007Z
UID:1986-1533150000-1533150000@alpinclub-hannover.de
SUMMARY:Radtour nach Hannover-Mittelfeld
DESCRIPTION:Es geht mit dem Rad vom Treffpunkt zum karibischen Restaurant &#8222;Kokoye&#8220; in Hannover-Mittelfeld. \nAdresse:\nKokoye\nAm Mittelfelde 77a\n30519 Hannover\nwww.kokoyerestaurant.com
URL:https://alpinclub-hannover.de/veranstaltung/radtour-nach-hannover-mittelfeld/
LOCATION:Haus der Jugend\, Maschstraße 22–24\, Hannover\, 30169
CATEGORIES:AlpinClub alle Gruppen,Stammtisch
ORGANIZER;CN="Kathrin":MAILTO:kathrin.wehmeyer@alpinclub-hannover.de
END:VEVENT
BEGIN:VEVENT
DTSTART;TZID=Europe/Berlin:20180808T190000
DTEND;TZID=Europe/Berlin:20180808T190000
DTSTAMP:20260422T150059
CREATED:20180630T114012Z
LAST-MODIFIED:20180806T191905Z
UID:1988-1533754800-1533754800@alpinclub-hannover.de
SUMMARY:AlpinClub-Stammtisch in der "Finca"
DESCRIPTION:Das ursprünglich an diesem Termin geplante Grillen am Dreiecksteich ist erstmal nicht mehr angesagt\, denn aufgrund der anhaltenden Trockenheit und der hohen Temperaturen ist das Grillen in öffentlichen Park- und Grünanlagen der Stadt Hannover derzeit verboten.\nDieses Verbot hat der Fachbereich Öffentliche Ordnung der Landeshauptstadt Hannover am 03.08.2018 hier veröffentlicht &#8230;
URL:https://alpinclub-hannover.de/veranstaltung/dreiecksteich-2018-1/
LOCATION:Restaurant Finca\, Inge-Machts Weg 2\, Hannover\, 30169
CATEGORIES:AlpinClub alle Gruppen,Stammtisch
ORGANIZER;CN="Kathrin":MAILTO:kathrin.wehmeyer@alpinclub-hannover.de
END:VEVENT
BEGIN:VEVENT
DTSTART;TZID=Europe/Berlin:20180815T190000
DTEND;TZID=Europe/Berlin:20180815T190000
DTSTAMP:20260422T150059
CREATED:20180630T115801Z
LAST-MODIFIED:20180803T205515Z
UID:1990-1534359600-1534359600@alpinclub-hannover.de
SUMMARY:AlpinClub-Stammtisch
DESCRIPTION:Der Biergarten wurde neulich nach einer Pause wiedereröffnet. \nBei Interesse:\nWikipedia-Artikel über das &#8222;Dornröschen&#8220;
URL:https://alpinclub-hannover.de/veranstaltung/stammtisch-124/
CATEGORIES:AlpinClub alle Gruppen,Stammtisch
ORGANIZER;CN="Kathrin":MAILTO:kathrin.wehmeyer@alpinclub-hannover.de
END:VEVENT
BEGIN:VEVENT
DTSTART;VALUE=DATE:20180817
DTEND;VALUE=DATE:20180821
DTSTAMP:20260422T150059
CREATED:20180424T125450Z
LAST-MODIFIED:20180803T205631Z
UID:1906-1534482000-1534741199@alpinclub-hannover.de
SUMMARY:Sektions-Wochenende – Paddeln auf der Werra
DESCRIPTION:Anmeldung bis 30. April 2018 wegen Reservierung!\nBitte mit Angabe Bootstyp und mit Anschrift\, Telefon (Handy!) und E-Mail für Rückfragen und Infos. \nAnmeldeanschrift siehe unten! \nTeilnehmer:\nAlle\, die gerne mit netten Menschen gemeinsam ein Wochenende auf dem Wasser verbringen wollen. Wir werden am Samstag und Sonntag je eine Tagestour mit Kajaks und Canadiern unternehmen und kehren am Abend auf den Zeltplatz zurück. Für Freitagabend reservieren wir in einem Restaurant in Berka Plätze für ca. 19 Uhr. Am Samstag besteht unterwegs Einkehrmöglichkeit und die Möglichkeit zum Picknick aus der Tonne (Selbstverpflegung). Am Samstagsbend Grillen wir auf dem Gelände\, das Grillgut kann ein ortsansässiger Metzger frisch liefern. \nDie Tour ist ausdrücklich auch für Paddelanfänger geeignet also traut euch!!! Es macht wirklich Spaß!!! \nOrt: \nBerka (Werra) \nZeit:\nAnreise Freitagabend 17.08.2018\nRückreise Sonntag 19.08.2018 \nBootsverleih: \nfreizeitcamp-werra.de \nUnterkunft:\nGelände des Freizeitcamp Werra\nZelte (Zeltwiese ist reserviert)\nnoch stehen auch zwei Hütten zur Verfügung\, wenn gewünscht \nAnreise:\nauf eigene Kosten in Fahrgemeinschaften \nKosten: \n\nBoot für 2 Tage vorauss. 24\,-€/Person\nZeltplatz 8\,50€ /Tag und Person Frühstücksbuffet 6\,-€/Person und Tag\nFür die Reservierung eines überdachten Sitzplatzes werden 25\,-€ auf die Teilnehmer umgelegt.\n\nAnmeldung:\nan Jürgen und Michaela Jungermann\,\nAlte Schützenwiese 12 A\, 30880 Laatzen\njungermann-family@t-online.de\nTel. 0511 / 8236859\, Mobil 01718251878 \nAnmerkung: Es handelt sich um eine Gemeinschaftstour für DAV-Mitglieder\, die Teilnahme erfolgt auf eigene Gefahr.
URL:https://alpinclub-hannover.de/veranstaltung/sektions-wochenende-2018/
LOCATION:Freizeitcamp Werra\, Hinter der Stadt 2\, Berka/Werra\, 99837
CATEGORIES:AlpinClub alle Gruppen,Wochenenden und Unternehmungen
ORGANIZER;CN="Michaela Jungermann":MAILTO:jungermann-family@t-online.de
END:VEVENT
BEGIN:VEVENT
DTSTART;TZID=Europe/Berlin:20180822T190000
DTEND;TZID=Europe/Berlin:20180822T190000
DTSTAMP:20260422T150059
CREATED:20180630T122417Z
LAST-MODIFIED:20180818T165331Z
UID:1995-1534964400-1534964400@alpinclub-hannover.de
SUMMARY:Radtour nach Wülfel
DESCRIPTION:Es geht mit dem Rad vom Treffpunkt zum Teichhus in Hannover-Wülfel. \nAdresse:\nTeichhûs\nWilkenburger Str. 32\n30519 Hannover\nwww.teichhues.de \nDie zwischenzeitlich für diesen Termin genannte Änderug ist hinfällig\, da das &#8222;Teichhûs&#8220; doch geöffnet hat!
URL:https://alpinclub-hannover.de/veranstaltung/radtour-2018-5/
LOCATION:Haus der Jugend\, Maschstraße 22–24\, Hannover\, 30169
CATEGORIES:AlpinClub alle Gruppen,Stammtisch
ORGANIZER;CN="Kathrin":MAILTO:kathrin.wehmeyer@alpinclub-hannover.de
END:VEVENT
BEGIN:VEVENT
DTSTART;TZID=Europe/Berlin:20180829T190000
DTEND;TZID=Europe/Berlin:20180829T190000
DTSTAMP:20260422T150059
CREATED:20180630T122716Z
LAST-MODIFIED:20180803T210100Z
UID:1997-1535569200-1535569200@alpinclub-hannover.de
SUMMARY:AlpinClub-Stammtisch
DESCRIPTION:
URL:https://alpinclub-hannover.de/veranstaltung/stammtisch-125/
LOCATION:Jutta Pauls Café & Restaurant\, Karl-Thiele-Weg 21\, Hannover\, 30169
CATEGORIES:AlpinClub alle Gruppen,Stammtisch
ORGANIZER;CN="Kathrin":MAILTO:kathrin.wehmeyer@alpinclub-hannover.de
END:VEVENT
END:VCALENDAR