BEGIN:VCALENDAR
VERSION:2.0
PRODID:-//AlpinClub Hannover - ECPv6.15.20//NONSGML v1.0//EN
CALSCALE:GREGORIAN
METHOD:PUBLISH
X-WR-CALNAME:AlpinClub Hannover
X-ORIGINAL-URL:https://alpinclub-hannover.de
X-WR-CALDESC:Veranstaltungen für AlpinClub Hannover
REFRESH-INTERVAL;VALUE=DURATION:PT1H
X-Robots-Tag:noindex
X-PUBLISHED-TTL:PT1H
BEGIN:VTIMEZONE
TZID:Europe/Berlin
BEGIN:DAYLIGHT
TZOFFSETFROM:+0100
TZOFFSETTO:+0200
TZNAME:CEST
DTSTART:20170326T010000
END:DAYLIGHT
BEGIN:STANDARD
TZOFFSETFROM:+0200
TZOFFSETTO:+0100
TZNAME:CET
DTSTART:20171029T010000
END:STANDARD
BEGIN:DAYLIGHT
TZOFFSETFROM:+0100
TZOFFSETTO:+0200
TZNAME:CEST
DTSTART:20180325T010000
END:DAYLIGHT
BEGIN:STANDARD
TZOFFSETFROM:+0200
TZOFFSETTO:+0100
TZNAME:CET
DTSTART:20181028T010000
END:STANDARD
BEGIN:DAYLIGHT
TZOFFSETFROM:+0100
TZOFFSETTO:+0200
TZNAME:CEST
DTSTART:20190331T010000
END:DAYLIGHT
BEGIN:STANDARD
TZOFFSETFROM:+0200
TZOFFSETTO:+0100
TZNAME:CET
DTSTART:20191027T010000
END:STANDARD
END:VTIMEZONE
BEGIN:VEVENT
DTSTART;TZID=Europe/Berlin:20180207T190000
DTEND;TZID=Europe/Berlin:20180207T190000
DTSTAMP:20260423T005734
CREATED:20171212T215508Z
LAST-MODIFIED:20180204T120714Z
UID:1757-1518030000-1518030000@alpinclub-hannover.de
SUMMARY:AlpinClub-Stammtisch
DESCRIPTION:Leider musste das traditionelle Schlittschuhlaufen auf dem Maschsee mit Tine abgesagt werden &#8230; (da nicht zugefroren ;-(
URL:https://alpinclub-hannover.de/veranstaltung/stammtisch-110a/
LOCATION:Shalimar\, Lange Laube 13\, Hannover\, 30159
CATEGORIES:AlpinClub alle Gruppen,Stammtisch
ORGANIZER;CN="Tine":MAILTO:tine.ziez@alpinclub-hannover.de
END:VEVENT
BEGIN:VEVENT
DTSTART;TZID=Europe/Berlin:20180214T190000
DTEND;TZID=Europe/Berlin:20180214T190000
DTSTAMP:20260423T005734
CREATED:20171212T215917Z
LAST-MODIFIED:20171212T215917Z
UID:1761-1518634800-1518634800@alpinclub-hannover.de
SUMMARY:AlpinClub-Stammtisch
DESCRIPTION:
URL:https://alpinclub-hannover.de/veranstaltung/stammtisch-111/
LOCATION:Tai Pai\, Hildesheimer Str. 73\, Hannover\, 30169
CATEGORIES:AlpinClub alle Gruppen,Stammtisch
ORGANIZER;CN="Kathrin":MAILTO:kathrin.wehmeyer@alpinclub-hannover.de
END:VEVENT
BEGIN:VEVENT
DTSTART;TZID=Europe/Berlin:20180221T190000
DTEND;TZID=Europe/Berlin:20180221T190000
DTSTAMP:20260423T005734
CREATED:20171212T220156Z
LAST-MODIFIED:20171212T220156Z
UID:1763-1519239600-1519239600@alpinclub-hannover.de
SUMMARY:Bilder aus Simbabwe
DESCRIPTION:
URL:https://alpinclub-hannover.de/veranstaltung/simbabwe-bilder-2018/
LOCATION:Freizeitheim Lister Turm\, Walderseestr. 100\, Hannover\, 30177
CATEGORIES:AlpinClub alle Gruppen,Bildervortrag,Stammtisch
ORGANIZER;CN="Thomas Wehmeyer":MAILTO:thomas.wehmeyer@alpinclub-hannover.de
END:VEVENT
BEGIN:VEVENT
DTSTART;TZID=Europe/Berlin:20180228T190000
DTEND;TZID=Europe/Berlin:20180228T190000
DTSTAMP:20260423T005734
CREATED:20171212T220523Z
LAST-MODIFIED:20171212T220523Z
UID:1765-1519844400-1519844400@alpinclub-hannover.de
SUMMARY:AlpinClub-Stammtisch
DESCRIPTION:
URL:https://alpinclub-hannover.de/veranstaltung/stammtisch-112/
LOCATION:Spaghetteria La Piazza\, Hildesheimer Str. 318\, Hannover\, 30519
CATEGORIES:AlpinClub alle Gruppen,Stammtisch
ORGANIZER;CN="Kathrin":MAILTO:kathrin.wehmeyer@alpinclub-hannover.de
END:VEVENT
END:VCALENDAR