BEGIN:VCALENDAR
VERSION:2.0
PRODID:-//AlpinClub Hannover - ECPv6.15.20//NONSGML v1.0//EN
CALSCALE:GREGORIAN
METHOD:PUBLISH
X-ORIGINAL-URL:https://alpinclub-hannover.de
X-WR-CALDESC:Veranstaltungen für AlpinClub Hannover
REFRESH-INTERVAL;VALUE=DURATION:PT1H
X-Robots-Tag:noindex
X-PUBLISHED-TTL:PT1H
BEGIN:VTIMEZONE
TZID:Europe/Berlin
BEGIN:DAYLIGHT
TZOFFSETFROM:+0100
TZOFFSETTO:+0200
TZNAME:CEST
DTSTART:20160327T010000
END:DAYLIGHT
BEGIN:STANDARD
TZOFFSETFROM:+0200
TZOFFSETTO:+0100
TZNAME:CET
DTSTART:20161030T010000
END:STANDARD
BEGIN:DAYLIGHT
TZOFFSETFROM:+0100
TZOFFSETTO:+0200
TZNAME:CEST
DTSTART:20170326T010000
END:DAYLIGHT
BEGIN:STANDARD
TZOFFSETFROM:+0200
TZOFFSETTO:+0100
TZNAME:CET
DTSTART:20171029T010000
END:STANDARD
BEGIN:DAYLIGHT
TZOFFSETFROM:+0100
TZOFFSETTO:+0200
TZNAME:CEST
DTSTART:20180325T010000
END:DAYLIGHT
BEGIN:STANDARD
TZOFFSETFROM:+0200
TZOFFSETTO:+0100
TZNAME:CET
DTSTART:20181028T010000
END:STANDARD
END:VTIMEZONE
BEGIN:VEVENT
DTSTART;TZID=Europe/Berlin:20171101T190000
DTEND;TZID=Europe/Berlin:20171101T190000
DTSTAMP:20260423T054013
CREATED:20170924T180544Z
LAST-MODIFIED:20170924T180544Z
UID:1705-1509562800-1509562800@alpinclub-hannover.de
SUMMARY:AlpinClub-Stammtisch
DESCRIPTION:
URL:https://alpinclub-hannover.de/veranstaltung/stammtisch-099/
LOCATION:Tai Pai\, Hildesheimer Str. 73\, Hannover\, 30169
CATEGORIES:AlpinClub alle Gruppen,Stammtisch
ORGANIZER;CN="Kathrin":MAILTO:kathrin.wehmeyer@alpinclub-hannover.de
END:VEVENT
BEGIN:VEVENT
DTSTART;TZID=Europe/Berlin:20171108T190000
DTEND;TZID=Europe/Berlin:20171108T190000
DTSTAMP:20260423T054013
CREATED:20170924T180950Z
LAST-MODIFIED:20170926T204645Z
UID:1707-1510167600-1510167600@alpinclub-hannover.de
SUMMARY:AlpinClub-Stammtisch
DESCRIPTION:
URL:https://alpinclub-hannover.de/veranstaltung/stammtisch-100/
LOCATION:Meteora\, Hamburger Allee 37\, Hannover\, 30161
CATEGORIES:AlpinClub alle Gruppen,Stammtisch
ORGANIZER;CN="Kathrin":MAILTO:kathrin.wehmeyer@alpinclub-hannover.de
END:VEVENT
BEGIN:VEVENT
DTSTART;TZID=Europe/Berlin:20171115T190000
DTEND;TZID=Europe/Berlin:20171115T190000
DTSTAMP:20260423T054013
CREATED:20170924T181550Z
LAST-MODIFIED:20170924T181550Z
UID:1711-1510772400-1510772400@alpinclub-hannover.de
SUMMARY:AlpinClub-Stammtisch
DESCRIPTION:
URL:https://alpinclub-hannover.de/veranstaltung/stammtisch-101/
LOCATION:Sagir\, Sallstr. 17\, Hannover\, 30171\, Deutschland
CATEGORIES:AlpinClub alle Gruppen,Stammtisch
ORGANIZER;CN="Kathrin":MAILTO:kathrin.wehmeyer@alpinclub-hannover.de
END:VEVENT
BEGIN:VEVENT
DTSTART;TZID=Europe/Berlin:20171122T190000
DTEND;TZID=Europe/Berlin:20171122T190000
DTSTAMP:20260423T054013
CREATED:20170924T181725Z
LAST-MODIFIED:20170924T181725Z
UID:1713-1511377200-1511377200@alpinclub-hannover.de
SUMMARY:AlpinClub-Stammtisch
DESCRIPTION:
URL:https://alpinclub-hannover.de/veranstaltung/stammtisch-102/
LOCATION:Deisterstübchen &#8222;Tasca Rias Baixas&#8220;\, Deisterstr. 77\, Hannover\, 30449
CATEGORIES:AlpinClub alle Gruppen,Stammtisch
ORGANIZER;CN="Kathrin":MAILTO:kathrin.wehmeyer@alpinclub-hannover.de
END:VEVENT
BEGIN:VEVENT
DTSTART;TZID=Europe/Berlin:20171129T190000
DTEND;TZID=Europe/Berlin:20171129T190000
DTSTAMP:20260423T054013
CREATED:20170924T181953Z
LAST-MODIFIED:20170924T181953Z
UID:1715-1511982000-1511982000@alpinclub-hannover.de
SUMMARY:Namibia - Bildervortrag
DESCRIPTION:
URL:https://alpinclub-hannover.de/veranstaltung/namibia-2017/
LOCATION:Freizeitheim Lister Turm\, Walderseestr. 100\, Hannover\, 30177
CATEGORIES:AlpinClub alle Gruppen,Bildervortrag,Stammtisch
ORGANIZER;CN="Beate":MAILTO:beate.f@alpinclub-hannover.de
END:VEVENT
END:VCALENDAR