BEGIN:VCALENDAR
VERSION:2.0
PRODID:-//AlpinClub Hannover - ECPv6.15.20//NONSGML v1.0//EN
CALSCALE:GREGORIAN
METHOD:PUBLISH
X-WR-CALNAME:AlpinClub Hannover
X-ORIGINAL-URL:https://alpinclub-hannover.de
X-WR-CALDESC:Veranstaltungen für AlpinClub Hannover
REFRESH-INTERVAL;VALUE=DURATION:PT1H
X-Robots-Tag:noindex
X-PUBLISHED-TTL:PT1H
BEGIN:VTIMEZONE
TZID:Europe/Berlin
BEGIN:DAYLIGHT
TZOFFSETFROM:+0100
TZOFFSETTO:+0200
TZNAME:CEST
DTSTART:20160327T010000
END:DAYLIGHT
BEGIN:STANDARD
TZOFFSETFROM:+0200
TZOFFSETTO:+0100
TZNAME:CET
DTSTART:20161030T010000
END:STANDARD
BEGIN:DAYLIGHT
TZOFFSETFROM:+0100
TZOFFSETTO:+0200
TZNAME:CEST
DTSTART:20170326T010000
END:DAYLIGHT
BEGIN:STANDARD
TZOFFSETFROM:+0200
TZOFFSETTO:+0100
TZNAME:CET
DTSTART:20171029T010000
END:STANDARD
BEGIN:DAYLIGHT
TZOFFSETFROM:+0100
TZOFFSETTO:+0200
TZNAME:CEST
DTSTART:20180325T010000
END:DAYLIGHT
BEGIN:STANDARD
TZOFFSETFROM:+0200
TZOFFSETTO:+0100
TZNAME:CET
DTSTART:20181028T010000
END:STANDARD
END:VTIMEZONE
BEGIN:VEVENT
DTSTART;TZID=Europe/Berlin:20170906T190000
DTEND;TZID=Europe/Berlin:20170906T190000
DTSTAMP:20260423T083417
CREATED:20170708T174646Z
LAST-MODIFIED:20170708T174701Z
UID:1656-1504724400-1504724400@alpinclub-hannover.de
SUMMARY:AlpinClub-Stammtisch
DESCRIPTION:
URL:https://alpinclub-hannover.de/veranstaltung/stammtisch-093/
LOCATION:Jutta Pauls Café & Restaurant\, Karl-Thiele-Weg 21\, Hannover\, 30169
CATEGORIES:AlpinClub alle Gruppen,Stammtisch
ORGANIZER;CN="Kathrin":MAILTO:kathrin.wehmeyer@alpinclub-hannover.de
END:VEVENT
BEGIN:VEVENT
DTSTART;TZID=Europe/Berlin:20170913T190000
DTEND;TZID=Europe/Berlin:20170913T190000
DTSTAMP:20260423T083417
CREATED:20170708T174843Z
LAST-MODIFIED:20170708T174843Z
UID:1658-1505329200-1505329200@alpinclub-hannover.de
SUMMARY:AlpinClub-Stammtisch
DESCRIPTION:
URL:https://alpinclub-hannover.de/veranstaltung/stammtisch-094/
LOCATION:Wülfeler Biergarten\, Hildesheimer Str. 380\, Hannover\, 30519
CATEGORIES:AlpinClub alle Gruppen,Stammtisch
ORGANIZER;CN="Kathrin":MAILTO:kathrin.wehmeyer@alpinclub-hannover.de
END:VEVENT
BEGIN:VEVENT
DTSTART;TZID=Europe/Berlin:20170920T190000
DTEND;TZID=Europe/Berlin:20170920T190000
DTSTAMP:20260423T083417
CREATED:20170708T175107Z
LAST-MODIFIED:20170708T175107Z
UID:1660-1505934000-1505934000@alpinclub-hannover.de
SUMMARY:Mit dem Audioguide durch die Eilenriede
DESCRIPTION:
URL:https://alpinclub-hannover.de/veranstaltung/eilenriede-2017/
LOCATION:Freizeitheim Lister Turm\, Walderseestr. 100\, Hannover\, 30177
CATEGORIES:AlpinClub alle Gruppen,Stammtisch
ORGANIZER;CN="Hedda":MAILTO:hedda@arcormail.de
END:VEVENT
BEGIN:VEVENT
DTSTART;TZID=Europe/Berlin:20170927T190000
DTEND;TZID=Europe/Berlin:20170927T190000
DTSTAMP:20260423T083417
CREATED:20170708T175258Z
LAST-MODIFIED:20170708T175258Z
UID:1662-1506538800-1506538800@alpinclub-hannover.de
SUMMARY:AlpinClub-Stammtisch
DESCRIPTION:
URL:https://alpinclub-hannover.de/veranstaltung/stammtisch-095/
LOCATION:La Lucania II\, Alte Döhrener Str. 28\, Hannover\, 30173
CATEGORIES:AlpinClub alle Gruppen,Stammtisch
ORGANIZER;CN="Kathrin":MAILTO:kathrin.wehmeyer@alpinclub-hannover.de
END:VEVENT
END:VCALENDAR