BEGIN:VCALENDAR
VERSION:2.0
PRODID:-//AlpinClub Hannover - ECPv6.15.20//NONSGML v1.0//EN
CALSCALE:GREGORIAN
METHOD:PUBLISH
X-WR-CALNAME:AlpinClub Hannover
X-ORIGINAL-URL:https://alpinclub-hannover.de
X-WR-CALDESC:Veranstaltungen für AlpinClub Hannover
REFRESH-INTERVAL;VALUE=DURATION:PT1H
X-Robots-Tag:noindex
X-PUBLISHED-TTL:PT1H
BEGIN:VTIMEZONE
TZID:Europe/Berlin
BEGIN:DAYLIGHT
TZOFFSETFROM:+0100
TZOFFSETTO:+0200
TZNAME:CEST
DTSTART:20160327T010000
END:DAYLIGHT
BEGIN:STANDARD
TZOFFSETFROM:+0200
TZOFFSETTO:+0100
TZNAME:CET
DTSTART:20161030T010000
END:STANDARD
BEGIN:DAYLIGHT
TZOFFSETFROM:+0100
TZOFFSETTO:+0200
TZNAME:CEST
DTSTART:20170326T010000
END:DAYLIGHT
BEGIN:STANDARD
TZOFFSETFROM:+0200
TZOFFSETTO:+0100
TZNAME:CET
DTSTART:20171029T010000
END:STANDARD
BEGIN:DAYLIGHT
TZOFFSETFROM:+0100
TZOFFSETTO:+0200
TZNAME:CEST
DTSTART:20180325T010000
END:DAYLIGHT
BEGIN:STANDARD
TZOFFSETFROM:+0200
TZOFFSETTO:+0100
TZNAME:CET
DTSTART:20181028T010000
END:STANDARD
END:VTIMEZONE
BEGIN:VEVENT
DTSTART;TZID=Europe/Berlin:20170705T190000
DTEND;TZID=Europe/Berlin:20170705T190000
DTSTAMP:20260423T113920
CREATED:20170702T184512Z
LAST-MODIFIED:20170921T191321Z
UID:1631-1499281200-1499281200@alpinclub-hannover.de
SUMMARY:Grillen am Dreiecksteich
DESCRIPTION:Grill und Kohle bringt Kathrin mit\, den Rest (Getränke\, Grillgut\, Esswerkzeug\, Sitzmöbel\, Decke etc.) jeder selbst!
URL:https://alpinclub-hannover.de/veranstaltung/dreiecksteich_grillen-2017/
LOCATION:Dreiecksteich\, Ricklinger Kiesteiche\, Hannover
CATEGORIES:AlpinClub alle Gruppen,Stammtisch
ORGANIZER;CN="Kathrin":MAILTO:kathrin.wehmeyer@alpinclub-hannover.de
END:VEVENT
BEGIN:VEVENT
DTSTART;TZID=Europe/Berlin:20170712T190000
DTEND;TZID=Europe/Berlin:20170712T190000
DTSTAMP:20260423T113920
CREATED:20170702T204035Z
LAST-MODIFIED:20170711T202548Z
UID:1633-1499886000-1499886000@alpinclub-hannover.de
SUMMARY:AlpinClub-Stammtisch
DESCRIPTION:Achtung &#8211; Programmänderung aufgrund ungünstiger Witterung!\n(Die Radtour zum Teichhues kann ein anderes Mal bei hoffentlich besserem Wetter stattfinden &#8230;)
URL:https://alpinclub-hannover.de/veranstaltung/stammtisch-087b/
LOCATION:Prager Hof\, Gellertstr. 24\, Hannover\, 30175
CATEGORIES:AlpinClub alle Gruppen,Stammtisch
ORGANIZER;CN="Georg":MAILTO:georg.klein-horrix@alpinclub-hannover.de
END:VEVENT
BEGIN:VEVENT
DTSTART;VALUE=DATE:20170714
DTEND;VALUE=DATE:20170718
DTSTAMP:20260423T113920
CREATED:20170408T121748Z
LAST-MODIFIED:20170408T124917Z
UID:1586-1500008400-1500267599@alpinclub-hannover.de
SUMMARY:Sektions-Wochenende – Paddeln auf der Lippe
DESCRIPTION:&#8211; Download der untenstehenden Infos und weiterer Details\nzum &#8218;AlpinClub Hannover &#8211; Sektions-Wochenende&#8216; als PDF hier &#8211; \n\nAnmeldung bitte bis zum 23. April 2017 wegen Reservierung!\nmit Angabe des gewünschten Bootstyps\nmit Anschrift\, Telefon (Handy!) und E-Mail für Rückfragen und Infos\nAnmeldeanschrift siehe unten! \nOrt: \nLippstadt (Unterkunft auf der Zeltwiese des WSC Lippstadt oder im Hotel)\, \nund auf dem Fluss Lippe (Paddeln) \nZeit: \nAnreise Freitagabend 14.07.2017 bis ca. 18:00 \nRückreise Sonntag 16.07.2017 \nBootsverleih: \nGamann Kanus \nUnterkunft: \nZeltwiese des WSC Lippstadt \nalternative &#8222;feste&#8220; Unterkunft:\nCity Hotel Lippstadt (in Fußwegentfernung) \nAnreise: \nauf eigene Kosten in Fahrgemeinschaften \nKosten: \nBoot für 2 Tage voraussichtlich 70\,- € / Person\nKanadier sind für 3-4 Personen\, wenige 1-er Kajaks!\nZeltplatz 12 € /Tag für kleines Zelt + 2 Erwachsene \nFreitagabend gemeinsamer Restaurantbesuch\,\nansonsten Selbstverpflegung\n(Frühstück\, Picknick\, Grillgut &#8230;) \nTeilnehmer: \nAlle\, die gerne mit netten Menschen gemeinsam ein Wochenende auf dem Wasser verbringen wollen. \nAnmeldung bitte an: \nJürgen und Michaela Jungermann \njungermann-family@t-online.de \nTel. 0511 / 8236859\, Mobil 01718251878
URL:https://alpinclub-hannover.de/veranstaltung/sektions-wochenende-2017/
LOCATION:WSC Lippstadt\, Esbecker Str. 1\, Lippstadt\, 59557
CATEGORIES:AlpinClub alle Gruppen,Wochenenden und Unternehmungen
ORGANIZER;CN="Michaela Jungermann":MAILTO:jungermann-family@t-online.de
END:VEVENT
BEGIN:VEVENT
DTSTART;TZID=Europe/Berlin:20170719T190000
DTEND;TZID=Europe/Berlin:20170719T190000
DTSTAMP:20260423T113920
CREATED:20170708T165947Z
LAST-MODIFIED:20170708T170006Z
UID:1636-1500490800-1500490800@alpinclub-hannover.de
SUMMARY:AlpinClub-Stammtisch
DESCRIPTION:
URL:https://alpinclub-hannover.de/veranstaltung/stammtisch-088/
LOCATION:Loretta`s\, Culemannstr. 14\, Hannover\, 30169
CATEGORIES:AlpinClub alle Gruppen,Stammtisch
ORGANIZER;CN="Kathrin":MAILTO:kathrin.wehmeyer@alpinclub-hannover.de
END:VEVENT
BEGIN:VEVENT
DTSTART;TZID=Europe/Berlin:20170726T190000
DTEND;TZID=Europe/Berlin:20170726T190000
DTSTAMP:20260423T113920
CREATED:20170708T170315Z
LAST-MODIFIED:20170708T170329Z
UID:1639-1501095600-1501095600@alpinclub-hannover.de
SUMMARY:AlpinClub-Stammtisch
DESCRIPTION:
URL:https://alpinclub-hannover.de/veranstaltung/stammtisch-089/
LOCATION:Lindener Turm Biergarten\, Lindener Berg\, Hannover
CATEGORIES:AlpinClub alle Gruppen,Stammtisch
ORGANIZER;CN="Kathrin":MAILTO:kathrin.wehmeyer@alpinclub-hannover.de
END:VEVENT
END:VCALENDAR